BEGIN:VCALENDAR
VERSION:2.0
PRODID:-//eventon.com NONSGML v1.0//EN
CALSCALE:GREGORIAN
METHOD:PUBLISH
BEGIN:VEVENT
UID:69e8d82db5dfb
DTSTAMP:20260422T141613Z
DTSTART:20260501T040000Z
DTEND:20260501T100000Z
LOCATION:
SUMMARY:SINNER'S SANCTUARY
DESCRIPTION:SINNER’S SANCTUARY Thursday at Power Exchange Doors open 9PM 
 – 3AM Step into the shadows of desire at SINNER’S SANCTUARY\,  a decade
 nt Thursday night ritual where lust reigns and limits fall away. This is yo
 ur invitation to indulge your sins—and surrender to temptation. Power Exc
 hange welcomes all lifestyles and orientations\, [..]\nhttps://powerexchang
 e.com/events/sinners-sanctuary-4/var/ri-1.l-L1
URL:https://powerexchange.com/events/sinners-sanctuary-4/var/ri-1.l-L1
END:VEVENT
END:VCALENDAR