BEGIN:VCALENDAR
VERSION:2.0
PRODID:-//eventon.com NONSGML v1.0//EN
CALSCALE:GREGORIAN
METHOD:PUBLISH
BEGIN:VEVENT
UID:69e8ef31d07c2
DTSTAMP:20260422T155425Z
DTSTART:20260208T050000Z
DTEND:20260208T130000Z
LOCATION:Power Exchange 220 Jones Street San Francisco CA 94102
SUMMARY:OBSESSION
DESCRIPTION:Obsession isn’t just a night — it’s what happens when you
  don’t want it to end. On the first Saturday of every month\,  Power Exch
 ange presents OBSESSION\,  a night built around desire\,  curiosity\,  and 
 the pull to stay just a little longer. The music runs deeper\,  the energy 
 grows heavier\, [..]\nhttps://powerexchange.com/events/obsession-2/
URL:https://powerexchange.com/events/obsession-2/
END:VEVENT
END:VCALENDAR