BEGIN:VCALENDAR
VERSION:2.0
PRODID:-//eventon.com NONSGML v1.0//EN
CALSCALE:GREGORIAN
METHOD:PUBLISH
BEGIN:VEVENT
UID:69e72d771d5f8
DTSTAMP:20260421T075535Z
DTSTART:20260216T050000Z
DTEND:20260216T110000Z
LOCATION:Power Exchange 220 Jones Street San Francisco CA 94102
SUMMARY:AFTERGLOW
DESCRIPTION:Welcome to Afterglow\,  the night where Sunday doesn’t mean i
 t’s over — it means you finish stronger. The weekend doesn’t finish u
 ntil you do. On the 1st &amp; 3rd Sundays\,  Power Exchange invites you to 
 close out your weekend the way it deserves: in heat\,  touch\,  and lingeri
 ng desire. Two[..]\nhttps://powerexchange.com/events/afterglow-9/
URL:https://powerexchange.com/events/afterglow-9/
END:VEVENT
END:VCALENDAR