BEGIN:VCALENDAR
VERSION:2.0
PRODID:-//eventon.com NONSGML v1.0//EN
CALSCALE:GREGORIAN
METHOD:PUBLISH
BEGIN:VEVENT
UID:69e741f613939
DTSTAMP:20260421T092302Z
DTSTART:20260306T050000Z
DTEND:20260306T110000Z
LOCATION:Power Exchange 220 Jones Street San Francisco CA 94102
SUMMARY:DARK DESIRES
DESCRIPTION:Step into Dark Desires\,  a night where temptation stirs and se
 duction begins after dark. This is your invitation to slip into the shadows
 \,  indulge your cravings\,  and explore the decadent mysteries of Power Ex
 change. On the 1st &amp; 3rd Thursdays of every month\,  the doors open to 
 a world where[..]\nhttps://powerexchange.com/events/dark-desires-10/var/ri-
 1.l-L1
URL:https://powerexchange.com/events/dark-desires-10/var/ri-1.l-L1
END:VEVENT
END:VCALENDAR