BEGIN:VCALENDAR
VERSION:2.0
PRODID:-//eventon.com NONSGML v1.0//EN
CALSCALE:GREGORIAN
METHOD:PUBLISH
BEGIN:VEVENT
UID:69e7800cc9429
DTSTAMP:20260421T134756Z
DTSTART:20260524T160000Z
DTEND:20260525T100000Z
LOCATION:Power Exchange 220 Jones Street San Francisco CA 94102
SUMMARY:DOWN TO FUCK
DESCRIPTION:A night for fuckees\,  fucktoys\,  fuckmeat &amp; everyone whoâ
 €™sâ€¦ DOWN TO FUCK! &#x1f608; Are YOU? &#x1f608; &#x1f525; Exhibitionists 
 &amp; voyeurs welcome. All are WELCUM. &#x1f525; &#x1f4cd; Where: Power Exc
 hange | 220 Jones St\,  San Francisco &#x23f0; When: 9 PM â€“ 3 AM &#x1f440
 ; Floors: 2 open to all | Level[..]\nhttps://powerexchange.com/events/down-
 to-fuck-7/var/ri-5.l-L1
URL:https://powerexchange.com/events/down-to-fuck-7/var/ri-5.l-L1
END:VEVENT
END:VCALENDAR