BEGIN:VCALENDAR
VERSION:2.0
PRODID:-//eventon.com NONSGML v1.0//EN
CALSCALE:GREGORIAN
METHOD:PUBLISH
BEGIN:VEVENT
UID:69e756d4067cf
DTSTAMP:20260421T105204Z
DTSTART:20260425T040000Z
DTEND:20260425T110000Z
LOCATION:Power Exchange 220 Jones Street San Francisco CA 94102
SUMMARY:FREAK FRIDAY
DESCRIPTION:Welcome to Freak Friday\,  where every kind of freak is celebra
 ted and set free. Power Exchange is the ultimate adult playground for those
  who dare to explore their wildest desires. Step inside and let your fantas
 ies take over—the night belongs to you\,  and what happens here is limite
 d only by[..]\nhttps://powerexchange.com/events/freak-friday-18/var/ri-2.l-
 L1
URL:https://powerexchange.com/events/freak-friday-18/var/ri-2.l-L1
END:VEVENT
END:VCALENDAR