BEGIN:VCALENDAR
VERSION:2.0
PRODID:-//eventon.com NONSGML v1.0//EN
CALSCALE:GREGORIAN
METHOD:PUBLISH
BEGIN:VEVENT
UID:69e757265f7bb
DTSTAMP:20260421T105326Z
DTSTART:20260426T040000Z
DTEND:20260426T120000Z
LOCATION:Power Exchange 220 Jones Street San Francisco CA 94102
SUMMARY:SLUT SATURDAY
DESCRIPTION:Do you crave a night where desire isn’t just allowed… but c
 elebrated? SLUT SATURDAY is where fantasies breathe\,  inhibitions fall awa
 y\,  and the boldest versions of ourselves rise to the surface. Whether you
 &#8217;re a proud slut\,  exploring your sensuality\,  or simply drawn to t
 he magnetic energy of uninhibited sexuality—this is[..]\nhttps://powerexc
 hange.com/events/slut-saturday-15/var/ri-2.l-L1
URL:https://powerexchange.com/events/slut-saturday-15/var/ri-2.l-L1
END:VEVENT
END:VCALENDAR