BEGIN:VCALENDAR
VERSION:2.0
PRODID:-//eventon.com NONSGML v1.0//EN
CALSCALE:GREGORIAN
METHOD:PUBLISH
BEGIN:VEVENT
UID:69e7424e55a49
DTSTAMP:20260421T092430Z
DTSTART:20260322T040000Z
DTEND:20260322T120000Z
LOCATION:Power Exchange 220 Jones Street San Francisco CA 94102
SUMMARY:LUCKY FUCK BALL
DESCRIPTION:&#x1f340; LUCKY FUCK BALL This isn’t beads and bar crawls… 
 This is the Lucky Fuck Ball! Dress in your most tempting green and step int
 o a night where luck favors the bold. All three floors are open\,  the ener
 gy is charged from the moment doors open at 9PM\,  and the[..]\nhttps://pow
 erexchange.com/events/lucky-fuck-ball-4/
URL:https://powerexchange.com/events/lucky-fuck-ball-4/
END:VEVENT
END:VCALENDAR